BEGIN:VCALENDAR
VERSION:2.0
PRODID:-//ChamberMaster//Event Calendar 2.0//EN
METHOD:PUBLISH
X-PUBLISHED-TTL:P3D
REFRESH-INTERVAL:P3D
CALSCALE:GREGORIAN
BEGIN:VEVENT
DTSTART:20240628T170000Z
DTEND:20240628T210000Z
X-MICROSOFT-CDO-ALLDAYEVENT:FALSE
SUMMARY:$1 Sundaes at Andy's Frozen Custard
DESCRIPTION:Andy's Frozen Custard is doing $1 sundaes from 12pm-4pm for our ribbon cutting. This is for any one topping sundae.
X-ALT-DESC;FMTTYPE=text/html:<span style="font-size:16px\;">Andy&#39\;s Frozen Custard is doing $1 sundaes from 12pm-4pm for our ribbon cutting. This is for any one topping sundae.</span><br />\n&nbsp\;
LOCATION:Andy's Frozen Custard
UID:e.3335.4199
SEQUENCE:3
DTSTAMP:20260424T044648Z
URL:https://www.vanburenchamber.org/events/details/1-sundaes-at-andy-s-frozen-custard-4199
END:VEVENT

END:VCALENDAR
