BEGIN:VCALENDAR
VERSION:2.0
PRODID:-//ChamberMaster//Event Calendar 2.0//EN
METHOD:PUBLISH
X-PUBLISHED-TTL:P3D
REFRESH-INTERVAL:P3D
CALSCALE:GREGORIAN
BEGIN:VEVENT
DTSTART;VALUE=DATE:20240930
DTEND;VALUE=DATE:20241001
TRANSP:TRANSPARENT
X-MICROSOFT-CDO-ALLDAYEVENT:TRUE
SUMMARY:17th Annual Chamber Golf Classic
DESCRIPTION:Each September\, players\, volunteers\, and sponsors come together for a fun day of network building and play at the Chamber Golf Classic. One of the area's most popular tournaments\, the event includes a delicious lunch\, followed by an afternoon on the course. An exciting hole-in-one prize is offered each year\, along with the chance to win big in contests such as "Closest to the Pin"\, "Closest to the Line"\, and "Longest Drive". Prizes are awarded for the top-finishing teams.  \n\n\n\nTeam registration and Sponsorship are now open for the 17th Annual Van Buren Chamber Golf Classic at Eagle Crest Golf Course in Alma. Registration includes green fees\, cart\, driving range\, and lunch. The format is a four-person scramble\, with check-in and lunch from 11:00 a.m. to 12:00 p.m.\, and driving range from 10:30 a.m. to 11:45 a.m. Shot-gun start at 12:00 p.m.        \n\n \n\n\n\nClick here for the full description of each sponsorship.\n\nClick here for a Team Registration form. \n\nClick here for a Sponsorship Order form.
X-ALT-DESC;FMTTYPE=text/html:<br />\n<br />\n<span style="font-family:arial\;"><span style="font-size:18px\;"><span background-color:="white" font-size:="" letter-spacing:="" sans="" source="">Each September\, players\, volunteers\, and sponsors come together for a fun day of network building and play at the Chamber Golf Classic.&nbsp\;One of the area&#39\;s most popular tournaments\, the event includes a delicious lunch\, followed by an afternoon on the course. An exciting hole-in-one prize is offered each year\, along with the chance to win big in contests such as &quot\;Closest to the Pin&quot\;\, &quot\;Closest to the Line&quot\;\, and &quot\;Longest Drive&quot\;. Prizes are awarded for the top-finishing teams.&nbsp\; </span><br />\n<br />\nTeam registration and Sponsorship are now open for the 17th Annual Van Buren Chamber Golf Classic at Eagle Crest Golf Course in Alma. Registration includes green fees\, cart\, driving range\, and lunch. The format is a four-person scramble\, with check-in and lunch from 11:00 a.m. to 12:00 p.m.\, and driving range from 10:30 a.m. to 11:45 a.m. Shot-gun start at 12:00 p.m.&nbsp\; &nbsp\; &nbsp\; &nbsp\;</span></span>&nbsp\;<br />\n<span background-color:="white" font-size:="" letter-spacing:="" sans="" source="" style=""><font face="arial"><span style="font-size: 18px\;">&nbsp\;</span></font></span><br />\n<br />\n<span style="font-size:18px\;"><span style="line-height: 107%\; font-family: Arial\, sans-serif\;"><a href="https://drive.google.com/file/d/13a3_fkdWRx37kxPUXRph8MXqGn4MGXBH/view?usp=sharing">Click here</a>&nbsp\;for the full description</span><span background-color:="white" font-size:="" letter-spacing:="" sans="" source="">&nbsp\;of each sponsorship.<br />\n<a href="https://drive.google.com/file/d/1SMgWj4mUpbNm482zb3OnvmuZqMFJcB-S/view?usp=sharing">Click here</a>&nbsp\;for a Team Registration form.&nbsp\;<br />\n<a href="https://drive.google.com/file/d/1SvqlPwl16OQzDMI4Vzz41ESOGMbnw_Xk/view?usp=sharing">Click here</a>&nbsp\;for a Sponsorship Order form.&nbsp\;</span></span>
LOCATION:Eagle Crest Golf Course
UID:e.3335.3797
SEQUENCE:3
DTSTAMP:20260423T232523Z
URL:https://www.vanburenchamber.org/events/details/17th-annual-chamber-golf-classic-3797
END:VEVENT

END:VCALENDAR
