BEGIN:VCALENDAR
VERSION:2.0
PRODID:-//ChamberMaster//Event Calendar 2.0//EN
METHOD:PUBLISH
X-PUBLISHED-TTL:P3D
REFRESH-INTERVAL:P3D
CALSCALE:GREGORIAN
BEGIN:VEVENT
DTSTART:20250809T150000Z
DTEND:20250809T230000Z
X-MICROSOFT-CDO-ALLDAYEVENT:FALSE
SUMMARY:Back to School Shopping
DESCRIPTION:Join us in Historic Downtown Van Buren\, during our Second Saturday Shopping! Enjoy a full day of shopping your local participating merchants.\n\n\n\nSAMPLES\n\nGIVE-AWAYS\n\nSALES\n\nPHOTO OPPS\n\nAND MORE!
X-ALT-DESC;FMTTYPE=text/html:<span style="font-size:22px\;">Join us in Historic Downtown Van Buren\, during our Second Saturday Shopping! Enjoy a full day of shopping your local participating merchants.</span>\n<div>\n<div>\n<div>\n<p><strong><span style="font-size:22px\;">SAMPLES<br />\nGIVE-AWAYS<br />\nSALES<br />\nPHOTO OPPS<br />\nAND MORE!</span></strong></p>\n</div>\n</div>\n</div>\n<br />\n<br />\n<br />\n&nbsp\;
LOCATION:
UID:e.3335.5337
SEQUENCE:3
DTSTAMP:20260419T145009Z
URL:https://www.vanburenchamber.org/events/details/back-to-school-shopping-5337
END:VEVENT

END:VCALENDAR
