BEGIN:VCALENDAR
VERSION:2.0
PRODID:-//ChamberMaster//Event Calendar 2.0//EN
METHOD:PUBLISH
X-PUBLISHED-TTL:P3D
REFRESH-INTERVAL:P3D
CALSCALE:GREGORIAN
BEGIN:VEVENT
DTSTART:20250709T190000Z
DTEND:20250709T223000Z
X-MICROSOFT-CDO-ALLDAYEVENT:FALSE
SUMMARY:Blood Drive - Van Buren Community Library
DESCRIPTION:Camp Donor: Donate Blood\, Earn Your Badges This Summer\n\nSuccessful donors will receive a limited-edition "Camp Donor" T-shirt\, one free ticket to Magic Springs and more!\n\n \n\nJune 19\, 2025   This summer\, roll up your sleeves and join the ultimate camp adventure   no bug spray required! Our Blood Institute invites you to become a Camp Donor by giving blood in July or August.\n\n \n\nOur Blood Institute will hold a blood drive with Van Buren Community on Wednesday\, July 9\, from 2 p.m. to 5:30 p.m. at the Van Buren Community Library.\n\n \n\nAll successful donors will receive:\n\n	A limited-edition "Camp Donor" T-shirt featuring a retro summer camp design\n	An exclusive Camp Donor badge (a collectible sticker perfect for your water bottle\, laptop\, or camp trunk)\n	One free ticket to Magic Springs Theme and Water Park\n\n \n\n"Summer is a season of adventure   and saving lives can be one of the most rewarding adventures of all\," said Dr. John Armitage\, president and CEO of Our Blood Institute. "Camp Donor is a fun way for people to celebrate summer while helping others. When you donate blood\, you're giving patients in our hospitals a second chance at life."\n\n \n\nWhen you visit Magic Springs Theme Park and Water Park\, you get two parks for the price of one! Immerse yourself in over 80 attractions including Arkansas Twister roller coaster and thrill rides such as Plummet Summit and The Gauntlet. When you're ready to cool off\, head over to Crystal Falls to take a dip in the pool and action-packed water slides. There's something for everyone at Magic Springs.\n\n \n\nAnyone who is healthy and 16 years old* or older can give blood. Donation typically takes only about an hour\, and one donation saves up to three lives. Appointments to donate can be made online at obi.org or by calling 877-340-8777. Walk-ins are also welcome. \n\n \n\n*16-year-olds must weigh at least 125 pounds and provide signed parental permission\; 17-year-olds must weigh at least 125 pounds\; 18+ year olds must weigh at least 110 pounds. Photo ID required. \n\n \n\n\n\nOur Blood Institute is the sixth-largest independent blood center in the nation\, with 17 donor centers across Oklahoma\, Arkansas and Texas\, including five centers in Arkansas. OBI provides blood products for patients in more than 40 Arkansas hospitals\, medical facilities and air ambulances.
X-ALT-DESC;FMTTYPE=text/html:<strong><span style="font-family:arial\,sans-serif\;"><span style="font-size:18.0pt\;">Camp Donor: Donate Blood\, Earn Your Badges This Summer</span></span></strong><br />\n<em><span style="color:black\;"><span style="font-family:arial\,sans-serif\;">Successful donors will receive a limited-edition &ldquo\;Camp Donor&rdquo\; T-shirt\, one free ticket to Magic Springs and more!</span></span></em><br />\n&nbsp\;<br />\n<strong><span style="color:red\;"><span style="font-family:arial\,sans-serif\;"><span style="font-size:11.0pt\;">June 19\, 2025</span></span></span></strong><span style="color:black\;"><span style="font-family:arial\,sans-serif\;"><span style="font-size:11.0pt\;"> &#9472\; </span></span></span><span style="font-family:arial\,sans-serif\;"><span style="font-size:11.0pt\;">This summer\, roll up your sleeves and join the ultimate camp adventure &mdash\; no bug spray required! Our Blood Institute invites you to become a </span></span><strong><span style="font-family:arial\,sans-serif\;"><span style="font-size:11.0pt\;">Camp Donor</span></span></strong><span style="font-family:arial\,sans-serif\;"><span style="font-size:11.0pt\;"> by giving blood in July or August.</span></span><br />\n&nbsp\;<br />\n<span style="color:black\;"><span style="font-family:arial\,sans-serif\;"><span style="font-size:11.0pt\;">Our Blood Institute will hold a blood drive with </span></span></span><strong><span style="color:red\;"><span style="font-family:arial\,sans-serif\;"><span style="font-size:11.0pt\;">Van Buren Community</span></span></span></strong><span style="color:red\;"><span style="font-family:arial\,sans-serif\;"><span style="font-size:11.0pt\;"> on <strong>Wednesday\, July 9</strong>\, from <strong>2 p.m.</strong> to <strong>5:30 p.m.</strong> at the Van Buren Community Library.</span></span></span><br />\n&nbsp\;<br />\n<strong><span style="font-family:arial\,sans-serif\;"><span style="font-size:11.0pt\;">All successful donors will receive:</span></span></strong>\n<ul>\n	<li style="line-height:115%\;"><span style="font-family:arial\,sans-serif\;"><span style="font-size:11.0pt\;">A </span></span><strong><span style="font-family:arial\,sans-serif\;"><span style="font-size:11.0pt\;">limited-edition &ldquo\;Camp Donor&rdquo\; T-shirt</span></span></strong><span style="font-family:arial\,sans-serif\;"><span style="font-size:11.0pt\;"> featuring a retro summer camp design</span></span></li>\n	<li style="line-height:115%\;"><span style="font-family:arial\,sans-serif\;"><span style="font-size:11.0pt\;">An exclusive </span></span><strong><span style="font-family:arial\,sans-serif\;"><span style="font-size:11.0pt\;">Camp Donor badge</span></span></strong><span style="font-family:arial\,sans-serif\;"><span style="font-size:11.0pt\;"> (a collectible sticker perfect for your water bottle\, laptop\, or camp trunk)</span></span></li>\n	<li style="line-height:115%\;"><strong><span style="font-family:arial\,sans-serif\;"><span style="font-size:11.0pt\;">One</span></span></strong><strong><span style="font-family:arial\,sans-serif\;"><span style="font-size:11.0pt\;"> free ticket</span></span></strong><span style="font-family:arial\,sans-serif\;"><span style="font-size:11.0pt\;"> to Magic Springs Theme and Water Park</span></span></li>\n</ul>\n&nbsp\;<br />\n<span style="font-family:arial\,sans-serif\;"><span style="font-size:11.0pt\;">&ldquo\;Summer is a season of adventure &mdash\; and saving lives can be one of the most rewarding adventures of all\,&rdquo\; said Dr. John Armitage\, president and CEO of Our Blood Institute. &ldquo\;Camp Donor is a fun way for people to celebrate summer while helping others. When you donate blood\, you&rsquo\;re giving patients in our hospitals a second chance at life.&rdquo\;</span></span><br />\n&nbsp\;<br />\n<span style="font-family:arial\,sans-serif\;"><span style="font-size:11.0pt\;">When you visit Magic Springs Theme Park and Water Park\, you get two parks for the price of one! Immerse yourself in over 80 attractions including Arkansas Twister roller coaster and thrill rides such as Plummet Summit and The Gauntlet. When you&rsquo\;re ready to cool off\, head over to Crystal Falls to take a dip in the pool and action-packed water slides. There&rsquo\;s something for everyone at Magic Springs.</span></span><br />\n&nbsp\;<br />\n<span style="color:black\;"><span style="font-family:arial\,sans-serif\;"><span style="font-size:11.0pt\;">Anyone who is healthy and 16 years old* or older can give blood.&#8239\;Donation typically takes only about an hour\, and one donation saves up to three lives. Appointments to donate can be made online at&nbsp\;</span></span></span><a href="https://obi.org/" title="https://obi.org/"><span style="color:black\;"><span style="font-family:arial\,sans-serif\;"><span style="font-size:11.0pt\;">obi.org</span></span></span></a>&nbsp\;<span style="color:black\;"><span style="font-family:arial\,sans-serif\;"><span style="font-size:11.0pt\;">or by calling 877-340-8777. Walk-ins are also welcome.&nbsp\;</span></span></span><br />\n&nbsp\;<br />\n<em><span style="color:black\;"><span style="font-family:calibri\,sans-serif\;"><span style="font-size:11.0pt\;">*16-year-olds must weigh at least 125 pounds and provide signed parental permission\; 17-year-olds must weigh at least 125 pounds\; 18+ year olds must weigh at least 110 pounds. Photo ID required.&nbsp\;</span></span></span></em><br />\n&nbsp\;<br />\n<br />\n<span style="font-size:16px\;">Our Blood Institute is the sixth-largest independent blood center in the nation\, with 17 donor centers across Oklahoma\, Arkansas and Texas\, including five centers in Arkansas. OBI provides blood products for patients in more than 40 Arkansas hospitals\, medical facilities and air ambulances.<br />\n&nbsp\;</span><br />\n&nbsp\;
LOCATION:Van Buren Public Library
UID:e.3335.5355
SEQUENCE:3
DTSTAMP:20260419T131432Z
URL:https://www.vanburenchamber.org/events/details/blood-drive-van-buren-community-library-5355
END:VEVENT

END:VCALENDAR
