BEGIN:VCALENDAR
VERSION:2.0
PRODID:-//ChamberMaster//Event Calendar 2.0//EN
METHOD:PUBLISH
X-PUBLISHED-TTL:P3D
REFRESH-INTERVAL:P3D
CALSCALE:GREGORIAN
BEGIN:VEVENT
DTSTART:20250412T130000Z
DTEND:20250412T160000Z
X-MICROSOFT-CDO-ALLDAYEVENT:FALSE
SUMMARY:Bunny Breakfast and Rabbit Run 5k Benefiting The CALL
DESCRIPTION:Our 3rd Annual Bunny Breakfast will surely be a hit and\, new this year\, we've added the Rabbit Run 5K and Family Fun Run. All proceeds from the event benefit The CALL in Crawford & Sebastian Counties\, an organization dedicated to providing resources\, support\, and care to foster families. Join us as we hop toward a brighter future for children and families in the foster care system.\n\nThe Rabbit Run will start at 8am and participants will finish at the River Park Building where they can join us at our Bunny Breakfast! The Breakfast will run from 9am - 11am and features a pancake breakfast\, music\, and fun activities for all ages. Race participation is not required to attend the breakfast.\n\nOur local school mascots will also have a chance to race against the Easter Bunny! You don't want to miss it. Check out our Facebook Event Page for more information and to register for the race.
X-ALT-DESC;FMTTYPE=text/html:<span style="font-size:16px\;">Our 3rd Annual Bunny Breakfast will surely be a hit and\, new this year\, we&#39\;ve added the Rabbit Run 5K and Family Fun Run. All proceeds from the event benefit The CALL in Crawford &amp\; Sebastian Counties\, an organization dedicated to providing resources\, support\, and care to foster families. Join us as we hop toward a brighter future for children and families in the foster care system.<br />\nThe Rabbit Run will start at 8am and participants will finish at the River Park Building where they can join us at our Bunny Breakfast! The Breakfast will run from 9am - 11am and features a pancake breakfast\, music\, and fun activities for all ages. Race participation is not required to attend the breakfast.<br />\nOur local school mascots will also have a chance to race against the Easter Bunny! You don&#39\;t want to miss it. Check out our Facebook Event Page for more information and to register for the race.</span>
LOCATION:River Park Events Building
UID:e.3335.4599
SEQUENCE:3
DTSTAMP:20260423T103825Z
URL:https://www.vanburenchamber.org/events/details/bunny-breakfast-and-rabbit-run-5k-benefiting-the-call-4599
END:VEVENT

END:VCALENDAR
