BEGIN:VCALENDAR
VERSION:2.0
PRODID:-//ChamberMaster//Event Calendar 2.0//EN
METHOD:PUBLISH
X-PUBLISHED-TTL:P3D
REFRESH-INTERVAL:P3D
CALSCALE:GREGORIAN
BEGIN:VEVENT
DTSTART:20240609T130000Z
DTEND:20240609T190000Z
X-MICROSOFT-CDO-ALLDAYEVENT:FALSE
SUMMARY:Car Wash
DESCRIPTION:Go to Mass and come back to a clean car! Support our youth by purchasing a car wash and getting them to Steubenville STL Mid-America. The Youth and chaperones will be selling tickets on June 1 and June 2.  Golden Tickets (includes a reserved spot and get your car washed while at Mass) are $20 and cars that drive up will be washed for any donation.  The car wash is on June 8 & 9 after all weekend Masses.
X-ALT-DESC;FMTTYPE=text/html:<span style="font-size:16px\;"><span style="color:black"><span style="font-family:barlow semi condensed">Go to Mass and come back to a clean car! Support our youth by purchasing a car wash and getting them to Steubenville STL Mid-America. The Youth and chaperones will be selling tickets on </span></span><span style="color:black"><span style="font-family:barlow semi condensed medium">June 1 and June 2</span></span><span style="color:black"><span style="font-family:barlow semi condensed">.&nbsp\; Golden Tickets (includes a reserved spot and get your car washed while at Mass) are $20 and cars that drive up will be washed for any donation.&nbsp\; The car wash is on </span></span><span style="color:black"><span style="font-family:barlow semi condensed medium">June 8 &amp\; 9 </span></span><span style="color:black"><span style="font-family:barlow semi condensed">after all weekend Masses.</span></span></span><br />\n&nbsp\;
LOCATION:St. Michael Catholic Church
UID:e.3335.4000
SEQUENCE:3
DTSTAMP:20260424T032133Z
URL:https://www.vanburenchamber.org/events/details/car-wash-06-09-2024-4000
END:VEVENT

END:VCALENDAR
