BEGIN:VCALENDAR
VERSION:2.0
PRODID:-//ChamberMaster//Event Calendar 2.0//EN
METHOD:PUBLISH
X-PUBLISHED-TTL:P3D
REFRESH-INTERVAL:P3D
CALSCALE:GREGORIAN
BEGIN:VEVENT
DTSTART:20250426T130000Z
DTEND:20250426T183000Z
X-MICROSOFT-CDO-ALLDAYEVENT:FALSE
SUMMARY:CASA's Dutch Oven Lid Lifting Compettiton (POSTPONED)
DESCRIPTION:Due to inclement weather forecasted\, this event is being postponed and rescheduled for September 20\, 2025.\n\nAre you ready to earn the title of Dutch Oven Master? This competition welcomes everyone\, from experienced chefs to enthusiastic newcomers! Sign up now at 21casa.org.\n\n \n\nNo Dutch Oven? No worries! We have Dutch Ovens available for borrowing.\n\n\nWe are thrilled about our upcoming Dutch Oven Fundraiser! This event is perfect for families and will feature a live band\, bounce houses\, and various activities for the kids.\n\n\n\nCooks can start preparing their dishes at 8:00 AM. At noon\, the excitement kicks off as all lids are lifted and tasting begins.\n\n \n\n\n\nYou can purchase tasting tickets either on-site or online at 21casa.org. Tickets are priced at $15 and grant you the opportunity to sample a selection of the dishes being created. Arrive early to witness the cooks in action!\n\n\n\nTasting will begin at 12:00 and go until food is gone. It's strongly recommended that attendees arrive before noon.
X-ALT-DESC;FMTTYPE=text/html:<div>\n<div>\n<div><span style="font-size:16px\;">Due to inclement weather forecasted\, this event is being postponed and rescheduled for September 20\, 2025.<br />\nAre you ready to earn the title of Dutch Oven Master? This competition welcomes everyone\, from experienced chefs to enthusiastic newcomers! Sign up now at&nbsp\;<a class="x1i10hfl xjbqb8w x1ejq31n xd10rxx x1sy0etr x17r0tee x972fbf xcfux6l x1qhh985 xm0m39n x9f619 x1ypdohk xt0psk2 xe8uvvx xdj266r x11i5rnm xat24cr x1mh8g0r xexx8yu x4uap5 x18d9i69 xkhd6sd x16tdsg8 x1hl2dhg xggy1nq x1a2a7pz x1sur9pj xkrqix3 x1fey0fg x1s688f" href="https://l.facebook.com/l.php?u=http%3A%2F%2F21casa.org%2F%3Ffbclid%3DIwZXh0bgNhZW0CMTAAAR3gV0nfBK-O_eIdu0hT0hON1yFMe4bOpNscR0d1bRIPRXCi0cmubvzw9FM_aem_u-75Hve62OuMhL7oxiXZDg&amp\;h=AT3xTcUOpXixn1PMlKCg66pkHURisgHybWgmRWwRZA7Uw1yhl8pLkd9cdqAb16dXAaVtZaFGbexY1OcRaxjTd0835Z8aeBica19IptWPEV6hP8jEYKhRvTOcIxd-Xy3ntw&amp\;__tn__=q&amp\;c[0]=AT2uM2wfE5x1YhbBaDYadeMBvbpBaNSiJTI8Zm2ui23DbZt2T8YwLyFq9iHw-Xokb_GzDW5txv1CIzPeeNy8HC7O2q350OVzyAbk5xTcRdDRDIrBemcGrJF5VdwqC2JBk4LZf9rfWlLvjJ-MtP4Mmr6xM_pqSkak1bEh9Q" rel="nofollow" style="color: var(--blue-link)\; cursor: pointer\; text-decoration-line: none\; list-style: none\; margin: 0px\; text-align: inherit\; border-style: none\; padding: 0px\; box-sizing: border-box\; border-width: 0px\; outline: none\; -webkit-tap-highlight-color: transparent\; font-weight: 600\; touch-action: manipulation\; background-color: transparent\; display: inline\; font-family: inherit\;" tabindex="0" target="_blank">21casa.org.</a></span><br />\n&nbsp\;</div>\n\n<div><span style="font-size:16px\;">No Dutch Oven? No worries! We have Dutch Ovens available for borrowing.</span></div>\n<br />\n<span style="font-size:16px\;">We are thrilled about our upcoming Dutch Oven Fundraiser! This event is perfect for families and will feature a live band\, bounce houses\, and various activities for the kids.</span></div>\n</div>\n\n<div>\n<div><span style="font-size:16px\;">Cooks can start preparing their dishes at 8:00 AM. At noon\, the excitement kicks off as all lids are lifted and tasting begins.</span><br />\n&nbsp\;</div>\n</div>\n\n<div>\n<div><span style="font-size:16px\;">You can purchase tasting tickets either on-site or online at <span style="font-family:inherit"><a class="x1i10hfl xjbqb8w x1ejq31n xd10rxx x1sy0etr x17r0tee x972fbf xcfux6l x1qhh985 xm0m39n x9f619 x1ypdohk xt0psk2 xe8uvvx xdj266r x11i5rnm xat24cr x1mh8g0r xexx8yu x4uap5 x18d9i69 xkhd6sd x16tdsg8 x1hl2dhg xggy1nq x1a2a7pz x1sur9pj xkrqix3 x1fey0fg x1s688f" href="http://21casa.org/?fbclid=IwZXh0bgNhZW0CMTAAAR2PudDpnAtidhBXrQw05sEUJf5G2S3WRoobcgkylkvdUmOu7v_jD9U2ovo_aem_DYUhHkjzZ0piq8UOVNCFKQ" rel="nofollow" style="color: var(--blue-link)\; cursor: pointer\; text-decoration-line: none\; list-style: none\; margin: 0px\; text-align: inherit\; border-style: none\; padding: 0px\; box-sizing: border-box\; border-width: 0px\; outline: none\; -webkit-tap-highlight-color: transparent\; font-weight: 600\; touch-action: manipulation\; background-color: transparent\; display: inline\; font-family: inherit\;" tabindex="0" target="_blank">21casa.org.</a></span> Tickets are priced at $15 and grant you the opportunity to sample a selection of the dishes being created. Arrive early to witness the cooks in action!</span></div>\n</div>\n\n<div>\n<div><span style="font-size:16px\;">Tasting will begin at 12:00 and go until food is gone. It&#39\;s strongly recommended that attendees arrive before noon.</span></div>\n</div>\n
LOCATION:Alma Pavilion
UID:e.3335.4832
SEQUENCE:3
DTSTAMP:20260423T103755Z
URL:https://www.vanburenchamber.org/events/details/casa-s-dutch-oven-lid-lifting-compettiton-postponed-4832
END:VEVENT

END:VCALENDAR
