BEGIN:VCALENDAR
VERSION:2.0
PRODID:-//ChamberMaster//Event Calendar 2.0//EN
METHOD:PUBLISH
X-PUBLISHED-TTL:P3D
REFRESH-INTERVAL:P3D
CALSCALE:GREGORIAN
BEGIN:VEVENT
DTSTART:20250712T150000Z
DTEND:20250712T230000Z
X-MICROSOFT-CDO-ALLDAYEVENT:FALSE
SUMMARY:Christmas in July
DESCRIPTION:Join us in Historic Downtown Van Buren\, during our Second Saturday Shopping! Enjoy a full day of shopping your local participating merchants.\n\nSAMPLES\n\nGIVE-AWAYS\n\nSALES\n\nPHOTO OPPS\n\nAND MORE!\n\n\n\nFor Vendor applications\, visit our website at www.oldtownvanburen.com.
X-ALT-DESC;FMTTYPE=text/html:<span style="font-size:20px\;">Join us in Historic Downtown Van Buren\, during our Second Saturday Shopping! Enjoy a full day of shopping your local participating merchants.</span><br />\n<strong><span style="font-size:20px\;">SAMPLES<br />\nGIVE-AWAYS<br />\nSALES<br />\nPHOTO OPPS<br />\nAND MORE!</span></strong><br />\n<br />\nFor Vendor applications\, visit our website at www.oldtownvanburen.com.<br />\n<br />\n&nbsp\;
LOCATION:
UID:e.3335.5336
SEQUENCE:3
DTSTAMP:20260419T131433Z
URL:https://www.vanburenchamber.org/events/details/christmas-in-july-5336
END:VEVENT

END:VCALENDAR
