BEGIN:VCALENDAR
VERSION:2.0
PRODID:-//ChamberMaster//Event Calendar 2.0//EN
METHOD:PUBLISH
X-PUBLISHED-TTL:P3D
REFRESH-INTERVAL:P3D
CALSCALE:GREGORIAN
BEGIN:VEVENT
DTSTART:20251018T130000Z
DTEND:20251018T150000Z
X-MICROSOFT-CDO-ALLDAYEVENT:FALSE
SUMMARY:Dumpster Event
DESCRIPTION:Keep Van Buren Beautiful Dumpster Event.\n\n\n\nNo tires\, glass or paint!\n\n\n\n8:00 a.m. to 11 a.m. or until the dumpsters are full!
X-ALT-DESC;FMTTYPE=text/html:Keep Van Buren Beautiful Dumpster Event.<br />\n<br />\nNo tires\, glass or paint!<br />\n<br />\n8:00 a.m. to 11 a.m. or until the dumpsters are full!<br />\n&nbsp\;
LOCATION:Van Buren School District Transportation
UID:e.3335.5783
SEQUENCE:3
DTSTAMP:20260419T190808Z
URL:https://www.vanburenchamber.org/events/details/dumpster-event-5783
END:VEVENT

END:VCALENDAR
