BEGIN:VCALENDAR
VERSION:2.0
PRODID:-//ChamberMaster//Event Calendar 2.0//EN
METHOD:PUBLISH
X-PUBLISHED-TTL:P3D
REFRESH-INTERVAL:P3D
CALSCALE:GREGORIAN
BEGIN:VEVENT
DTSTART:20250516T130000Z
DTEND:20250517T213000Z
X-MICROSOFT-CDO-ALLDAYEVENT:FALSE
SUMMARY:EHC Yard Sale
DESCRIPTION:The Extension Homemakers Committee is hosting another Yard Sale this year! Discover household items\, clothing\, books\, and unique finds all at unbeatable prices. Proceeds support local EHC projects and programs. Don't miss the chance to shop\, connect\, and support our community!
X-ALT-DESC;FMTTYPE=text/html:<br />\n<span style="font-size:16px\;"><span style="color:rgb(38\, 44\, 48)\; font-family:lato\,sans-serif">The Extension Homemakers Committee is hosting another Yard Sale this year! Discover household items\, clothing\, books\, and unique finds&mdash\;all at unbeatable prices. Proceeds support local EHC projects and programs. Don&rsquo\;t miss the chance to shop\, connect\, and support our community!</span></span>
LOCATION:Crawford County Extension Office
UID:e.3335.4882
SEQUENCE:3
DTSTAMP:20260423T160338Z
URL:https://www.vanburenchamber.org/events/details/ehc-yard-sale-4882
END:VEVENT

END:VCALENDAR
