BEGIN:VCALENDAR
VERSION:2.0
PRODID:-//ChamberMaster//Event Calendar 2.0//EN
METHOD:PUBLISH
X-PUBLISHED-TTL:P3D
REFRESH-INTERVAL:P3D
CALSCALE:GREGORIAN
BEGIN:VEVENT
DTSTART:20241112T170000Z
DTEND:20241113T030000Z
X-MICROSOFT-CDO-ALLDAYEVENT:FALSE
SUMMARY:GOOD FOOD FOR A GREAT CAUSE
DESCRIPTION:Let Chili's in Van Buren whip up your dinner while you sprinkle a little love on CASA of Crawford County! Just flash that flyer on November 12\, 2024\, and watch them donate 15% of your bill to this fantastic cause. Delicious food for a good deed? \n\n\n\nCASA advocates serve as vital voices for their children in the courtroom. By providing detailed court reports\, volunteers assist family court judges in making informed decisions\, leading to improved outcomes for children. CASA volunteers are often the only individuals solely dedicated to advocating for their child.\n\nResearch indicates that children with a CASA advocate report higher levels of hope\, which correlates with their ability to thrive.\n\n\n\nOn average\, a CASA volunteer contributes between 5 and 10 hours per month. From July 1\, 2023\, to June 30\, 2024\, CASA of Crawford County advocated for 82 children across a total of 41 cases.\n\nAmong these children\, 20 were reunified with their families\, 13 were adopted\, and 3 aged out of the foster care system.
X-ALT-DESC;FMTTYPE=text/html:<br />\n<span style="font-size:16px\;"><span style="font-family:arial\,helvetica\,sans-serif"><span style="color:rgb(0\, 0\, 0)">Let Chili&#39\;s in Van Buren whip up your dinner while you sprinkle a little love on CASA of Crawford County! Just flash that flyer on November 12\, 2024\, and watch them donate 15% of your bill to this fantastic cause. Delicious food for a good deed?&nbsp\;</span><br />\n<br />\nCASA advocates serve as vital voices for their children in the courtroom. By providing detailed court reports\, volunteers assist family court judges in making informed decisions\, leading to improved outcomes for children. CASA volunteers are often the only individuals solely dedicated to advocating for their child.<br />\nResearch indicates that children with a CASA advocate report higher levels of hope\, which correlates with their ability to thrive.<br />\n<br />\nOn average\, a CASA volunteer contributes between 5 and 10 hours per month. From July 1\, 2023\, to June 30\, 2024\, CASA of Crawford County advocated for 82 children across a total of 41 cases.<br />\nAmong these children\, 20 were reunified with their families\, 13 were adopted\, and 3 aged out of the foster care system.</span></span><br />\n&nbsp\;
LOCATION:Chili's Van Buren
UID:e.3335.4329
SEQUENCE:3
DTSTAMP:20260423T215251Z
URL:https://www.vanburenchamber.org/events/details/good-food-for-a-great-cause-4329
END:VEVENT

END:VCALENDAR
