BEGIN:VCALENDAR
VERSION:2.0
PRODID:-//ChamberMaster//Event Calendar 2.0//EN
METHOD:PUBLISH
X-PUBLISHED-TTL:P3D
REFRESH-INTERVAL:P3D
CALSCALE:GREGORIAN
BEGIN:VEVENT
DTSTART:20240825T170000Z
DTEND:20240831T000000Z
X-MICROSOFT-CDO-ALLDAYEVENT:FALSE
SUMMARY:Grace's Toy Closet Spirit Week and Grace's Birthday Celebration
DESCRIPTION:Hi Everyone\,\n\n\n\nPlease come celebrate a beautiful little girl's birthday and support her parents' non-profit called Grace's Toy Closet. All week at the mention of Grace's name\, 20% of your purchase will be donated to her non-profit. On her birthday\, August 30th\, 20% of the entire day will be donated! This organization provides new toys to children undergoing cancer treatments. We will be giving away a free Confetti Bundtlet to anyone who donates directly to their QR code at the bakery! Help us bring Nothing 'Bundt' Sweet Joy to those children!
X-ALT-DESC;FMTTYPE=text/html:<span style="font-size:16px\;">Hi Everyone\,<br />\n<br />\nPlease come celebrate a beautiful little girl&#39\;s birthday and support her parents&#39\; non-profit called Grace&#39\;s Toy Closet. All week at the mention of Grace&#39\;s name\, 20% of your purchase will be donated to her non-profit. On her birthday\, August 30th\, 20% of the entire day will be donated! This organization provides new toys to children undergoing cancer treatments. We will be giving away a free Confetti Bundtlet to anyone who donates directly to their QR code at the bakery! Help us bring Nothing &#39\;Bundt&#39\; Sweet Joy to those children!</span>
LOCATION:Nothing Bundt Cakes Fort Smith
UID:e.3335.4270
SEQUENCE:3
DTSTAMP:20260424T002836Z
URL:https://www.vanburenchamber.org/events/details/grace-s-toy-closet-spirit-week-and-grace-s-birthday-celebration-4270
END:VEVENT

END:VCALENDAR
