BEGIN:VCALENDAR
VERSION:2.0
PRODID:-//ChamberMaster//Event Calendar 2.0//EN
METHOD:PUBLISH
X-PUBLISHED-TTL:P3D
REFRESH-INTERVAL:P3D
CALSCALE:GREGORIAN
BEGIN:VEVENT
DTSTART:20240817T000000Z
DTEND:20240817T020000Z
X-MICROSOFT-CDO-ALLDAYEVENT:FALSE
SUMMARY:Improv Night
DESCRIPTION:Get ready for an evening where chuckles are guaranteed and the unexpected is the norm! Join us for our inaugural Improv Night\, where the only thing more abundant than laughter is the sheer unpredictability. It's the first of many\, so brace yourself for a hilariously wild ride!
X-ALT-DESC;FMTTYPE=text/html:<span style="font-size:18px\;">Get ready for an evening where chuckles are guaranteed and the unexpected is the norm! Join us for our inaugural Improv Night\, where the only thing more abundant than laughter is the sheer unpredictability. It&#39\;s the first of many\, so brace yourself for a hilariously wild ride! </span>
LOCATION:3rd & Main: Music & Moore
UID:e.3335.4252
SEQUENCE:3
DTSTAMP:20260424T002523Z
URL:https://www.vanburenchamber.org/events/details/improv-night-08-16-2024-4252
END:VEVENT

END:VCALENDAR
