BEGIN:VCALENDAR
VERSION:2.0
PRODID:-//ChamberMaster//Event Calendar 2.0//EN
METHOD:PUBLISH
X-PUBLISHED-TTL:P3D
REFRESH-INTERVAL:P3D
CALSCALE:GREGORIAN
BEGIN:VEVENT
DTSTART;VALUE=DATE:20250121
DTEND;VALUE=DATE:20250122
TRANSP:TRANSPARENT
X-MICROSOFT-CDO-ALLDAYEVENT:TRUE
SUMMARY:Local Bundt Cake Lady's Birthday!
DESCRIPTION:It's our local Fort Smith Bundt Cake Lady's Birthday on Tuesday\, January 21st! First 21 Guests will receive a Free Confetti Bundtlet and Everyone at the mention of the Bundt Boss's Birthday will receive a 21% discount on all cakes and Bundtique (retail)!
X-ALT-DESC;FMTTYPE=text/html:<br />\n<br />\n<span style="font-size:16px\;">It&#39\;s our local Fort Smith Bundt Cake Lady&#39\;s Birthday on Tuesday\, January 21st! First 21 Guests will receive a Free Confetti Bundtlet and Everyone at the mention of the Bundt Boss&#39\;s Birthday will receive a 21% discount on all cakes and Bundtique (retail)!</span>
LOCATION:Nothing Bundt Cakes
UID:e.3335.4600
SEQUENCE:3
DTSTAMP:20260423T173156Z
URL:https://www.vanburenchamber.org/events/details/local-bundt-cake-lady-s-birthday-4600
END:VEVENT

END:VCALENDAR
