BEGIN:VCALENDAR
VERSION:2.0
PRODID:-//ChamberMaster//Event Calendar 2.0//EN
METHOD:PUBLISH
X-PUBLISHED-TTL:P3D
REFRESH-INTERVAL:P3D
CALSCALE:GREGORIAN
BEGIN:VEVENT
DTSTART:20240506T223000Z
DTEND:20240506T233000Z
X-MICROSOFT-CDO-ALLDAYEVENT:FALSE
SUMMARY:May Foster Care/Adoption Interest Meeting
DESCRIPTION:May 6 - Interest Meeting (5:30-6:30 Chapters on Main in Van Buren) \n\n\n\nHave you thought about opening your home to foster or adoptive care?  Join us May 6th for an Interest Meeting at Chapter on Main in Van Buren.
X-ALT-DESC;FMTTYPE=text/html:<span style="font-size:16px"><span style="color:black !important\; font-family:aptos\,aptos_embeddedfont\,aptos_msfontservice\,calibri\,helvetica\,sans-serif">May&nbsp\;</span><span style="color:black !important\; font-family:calibri\,calibri_embeddedfont\,calibri_msfontservice\,sans-serif">6 - Interest Meeting (5:30-6:30 Chapters on Main in Van Buren)&nbsp\;<br />\n<br />\nHave you thought about opening your home to foster or adoptive care?&nbsp\; Join us May 6th for an Interest Meeting at Chapter on Main in Van Buren.</span></span>
LOCATION:Chapters on Main
UID:e.3335.3871
SEQUENCE:3
DTSTAMP:20260424T060814Z
URL:https://www.vanburenchamber.org/events/details/may-interest-meeting-3871
END:VEVENT

END:VCALENDAR
