BEGIN:VCALENDAR
VERSION:2.0
PRODID:-//ChamberMaster//Event Calendar 2.0//EN
METHOD:PUBLISH
X-PUBLISHED-TTL:P3D
REFRESH-INTERVAL:P3D
CALSCALE:GREGORIAN
BEGIN:VEVENT
DTSTART:20250216T010000Z
DTEND:20250216T030000Z
X-MICROSOFT-CDO-ALLDAYEVENT:FALSE
SUMMARY:Miss Julia
DESCRIPTION:Come join us for a night of Theatre at 3rd and Main Music and Moore. We are partnering with AndMore theatre to present "Miss Julia"\, an adaptation of August Strindburg's "Miss Julie." A twisting story about what pulls people together\, what separates them\, and how our stories can change trajectories overnight.\n\n\n\nThis play deals with modern relationships. Some topics may not be suitable for young children.
X-ALT-DESC;FMTTYPE=text/html:<span style="font-size:16px\;"><span style="font-family:arial\,helvetica\,sans-serif">Come join us for a night of Theatre at 3rd and Main Music and Moore. We are partnering with AndMore theatre to present &quot\;Miss Julia&quot\;\, an adaptation of August Strindburg&#39\;s &quot\;Miss Julie.&quot\; <span style="color:rgb(8\, 8\, 9)">A twisting story about what pulls people together\, what separates them\, and how our stories can change trajectories overnight.</span><br />\n<br />\nThis play deals with modern relationships. Some topics may not be suitable for young children.</span></span>
LOCATION:3rd & Main: Music & Moore
UID:e.3335.4839
SEQUENCE:3
DTSTAMP:20260423T172243Z
URL:https://www.vanburenchamber.org/events/details/miss-julia-02-15-2025-4839
END:VEVENT

END:VCALENDAR
