BEGIN:VCALENDAR
VERSION:2.0
PRODID:-//ChamberMaster//Event Calendar 2.0//EN
METHOD:PUBLISH
X-PUBLISHED-TTL:P3D
REFRESH-INTERVAL:P3D
CALSCALE:GREGORIAN
BEGIN:VEVENT
DTSTART;VALUE=DATE:20250402
DTEND;VALUE=DATE:20250405
TRANSP:TRANSPARENT
X-MICROSOFT-CDO-ALLDAYEVENT:TRUE
SUMMARY:MS. ARKANSAS SENIOR AMERICA\, INC. FUNDRAISER
DESCRIPTION:Ms. Arkansas Senior America Pageant\, Inc. will hold their one day fundraiser in conjunction with NWA Gives Day Thursday April 3\, 2025.  No amount is too large or too small.  We are a 501 c 3 nonprofit\, so all donations are tax deductible. \n\n\n\nDonations can be made anytime at https://www.nwagives.org/organization/Ms-Arkansas-Senior-America
X-ALT-DESC;FMTTYPE=text/html:<span style="font-size:18px\;">Ms. Arkansas Senior America Pageant\, Inc.&nbsp\;will hold their&nbsp\;one day fundraiser&nbsp\;in conjunction with NWA Gives Day Thursday April 3\, 2025.&nbsp\; No amount is too large or too small.&nbsp\;&nbsp\;We are a 501 c 3 nonprofit\, so all donations are tax deductible.&nbsp\;<br />\n<br />\nDonations can be made anytime at&nbsp\;<a font-size:="" href="https://www.nwagives.org/organization/Ms-Arkansas-Senior-America" trebuchet="">https://www.nwagives.org/organization/Ms-Arkansas-Senior-America</a></span>
LOCATION:https://www.nwagives.org/organization/Ms-Arkansas-Senior-America
UID:e.3335.4868
SEQUENCE:3
DTSTAMP:20260423T103902Z
URL:https://www.vanburenchamber.org/events/details/ms-arkansas-senior-america-inc-fundraiser-04-03-2025-4868
END:VEVENT

END:VCALENDAR
