BEGIN:VCALENDAR
VERSION:2.0
PRODID:-//ChamberMaster//Event Calendar 2.0//EN
METHOD:PUBLISH
X-PUBLISHED-TTL:P3D
REFRESH-INTERVAL:P3D
CALSCALE:GREGORIAN
BEGIN:VEVENT
DTSTART:20240622T190000Z
DTEND:20240622T210000Z
X-MICROSOFT-CDO-ALLDAYEVENT:FALSE
SUMMARY:Ms. Arkansas Senior America Pageant
DESCRIPTION:Ms. Arkansas Senior America Pageant\, Inc. is an affiliate of Ms. Senior America Pageant LLC.\n\n \n\nThe Ms. Senior America Pageant is the world's first and foremost pageant to emphasize and give honor to women who have reached the "Age of Elegance" (60+). It is a search for the gracious lady who best exemplifies the dignity\, maturity\, and inner beauty of all senior Americans. The Ms. Senior America Philosophy is based upon the belief that Seniors are the foundation of America\, and our most valuable treasure. It is upon their knowledge\, wisdom\, experience\, and heart for service\, that the younger generation may also gain knowledge and the opportunity to build a better society.\n\n \n\nThe Purpose of Ms. Senior America is to develop\, foster\, and promote programs and activities that dispel the myths of aging by enhancing the lives of senior Americans by providing them the opportunities to grow mentally\, physically\, and spiritually\, and drawing on their experiences from the past\, their knowledge of the present\, and their continuing enthusiasm of the future.
X-ALT-DESC;FMTTYPE=text/html:<div><span style="font-size:16px\;">Ms. Arkansas Senior America Pageant\, Inc. is an affiliate of Ms. Senior America Pageant LLC.</span><br />\n&nbsp\;</div>\n\n<div><span style="font-size:16px\;">The Ms. Senior America Pageant is the world&rsquo\;s first and foremost pageant to emphasize and give honor to women who have reached the &ldquo\;Age of Elegance&quot\; (60+). It is a search for the gracious lady who best exemplifies the dignity\, maturity\, and inner beauty of all senior Americans. The Ms. Senior America Philosophy is based upon the belief that Seniors are the foundation of America\, and our most valuable treasure. It is upon their knowledge\, wisdom\, experience\, and heart for service\, that the younger generation may also gain knowledge and the opportunity to build a better society.</span><br />\n&nbsp\;</div>\n\n<div><span style="font-size:16px\;">The Purpose of Ms. Senior America is to develop\, foster\, and promote programs and activities that dispel the myths of aging by enhancing the lives of senior Americans by providing them the opportunities to grow mentally\, physically\, and spiritually\, and drawing on their experiences from the past\, their knowledge of the present\, and their continuing enthusiasm of the future.</span></div>\n
LOCATION:King Opera House
UID:e.3335.3893
SEQUENCE:3
DTSTAMP:20260424T032321Z
URL:https://www.vanburenchamber.org/events/details/ms-arkansas-senior-america-pageant-3893
END:VEVENT

END:VCALENDAR
