BEGIN:VCALENDAR
VERSION:2.0
PRODID:-//ChamberMaster//Event Calendar 2.0//EN
METHOD:PUBLISH
X-PUBLISHED-TTL:P3D
REFRESH-INTERVAL:P3D
CALSCALE:GREGORIAN
BEGIN:VEVENT
DTSTART:20240831T220000Z
DTEND:20240901T020000Z
X-MICROSOFT-CDO-ALLDAYEVENT:FALSE
SUMMARY:Mulberry Murder Dinner
DESCRIPTION:Step into a world of suspense and hush-hush fun at our 1920s speakeasy shindig. We're on the hunt to unravel a whodunit that's as twisty as a Charleston turn. Dine with us\, where the intrigue is as thick as the fog on a Mulberry morning\, and the good times are as infectious as the jazz age tunes. Don your glad rags and join the caper\, where it's always the bee's knees! Only 20 seats are available so book now!
X-ALT-DESC;FMTTYPE=text/html:<span style="font-size:16px\;">Step into a world of suspense and hush-hush fun at our 1920s speakeasy shindig. We&#39\;re on the hunt to unravel a whodunit that&#39\;s as twisty as a Charleston turn. Dine with us\, where the intrigue is as thick as the fog on a Mulberry morning\, and the good times are as infectious as the jazz age tunes. Don your glad rags and join the caper\, where it&#39\;s always the bee&#39\;s knees! Only 20 seats are available so book now!</span>
LOCATION:3rd & Main: Music & Moore
UID:e.3335.4251
SEQUENCE:3
DTSTAMP:20260424T002332Z
URL:https://www.vanburenchamber.org/events/details/mulberry-murder-dinner-4251
END:VEVENT

END:VCALENDAR
