BEGIN:VCALENDAR
VERSION:2.0
PRODID:-//ChamberMaster//Event Calendar 2.0//EN
METHOD:PUBLISH
X-PUBLISHED-TTL:P3D
REFRESH-INTERVAL:P3D
CALSCALE:GREGORIAN
BEGIN:VEVENT
DTSTART:20250426T230000Z
DTEND:20250427T030000Z
X-MICROSOFT-CDO-ALLDAYEVENT:FALSE
SUMMARY:Mystery at the Forest
DESCRIPTION:Guests are invited to join us at the Mystery at the Forest fundraiser for Heart to Heart Pregnancy & Family Care Center at the Bakery District downtown Fort Smith\, on April 26 from 6pm-10pm. Enter the enchanted forest as groups work together to solve a mystery\, escape room style provided by Ben Brown with Bullfrog Bouncers. Enjoy scrumptious food provided by Culinary Connections. We will also have games\, music\, raffles and a live auction. You don't want to miss this incredible night of fun helping a great cause! Text "h2hmystery" to 44834 to purchase your tickets today!
X-ALT-DESC;FMTTYPE=text/html:<span style="font-size:16px\;">Guests are invited to join us at the Mystery at the Forest fundraiser for Heart to Heart Pregnancy &amp\; Family Care Center at the Bakery District downtown Fort Smith\, on April 26 from 6pm-10pm. Enter the enchanted forest as groups work together to solve a mystery\, escape room style provided by Ben Brown with Bullfrog Bouncers. Enjoy scrumptious food provided by Culinary Connections. We will also have games\, music\, raffles and a live auction. You don&#39\;t want to miss this incredible night of fun helping a great cause! Text &quot\;h2hmystery&quot\; to 44834 to purchase your tickets today!</span>
LOCATION:The Bakery District
UID:e.3335.4858
SEQUENCE:3
DTSTAMP:20260423T103534Z
URL:https://www.vanburenchamber.org/events/details/mystery-at-the-forest-4858
END:VEVENT

END:VCALENDAR
