BEGIN:VCALENDAR
VERSION:2.0
PRODID:-//ChamberMaster//Event Calendar 2.0//EN
METHOD:PUBLISH
X-PUBLISHED-TTL:P3D
REFRESH-INTERVAL:P3D
CALSCALE:GREGORIAN
BEGIN:VEVENT
DTSTART:20240509T223000Z
DTEND:20240509T233000Z
X-MICROSOFT-CDO-ALLDAYEVENT:FALSE
SUMMARY:New volunteer Training for Almost Home Shelter & Rescue
DESCRIPTION:Almost Home Shelter & Rescue will be conducting new volunteer training on Thursday May 9th at 5:30 pm at the Van Buren Public Library.\n\n\n\nJoin us and find out more about your local shelter and volunteer opportunities.\n\nVolunteers are needed for both morning and late evening slots.\n\n\n\nPlease don't say "It would break my heart\, I'd want to take them all home." We have great success stories. We keep each dog until we can place it in a loving home.\n\n\n\nHope to see you there!
X-ALT-DESC;FMTTYPE=text/html:<span style="font-size:16px\;">Almost Home Shelter &amp\; Rescue will be conducting new volunteer training on Thursday May 9th at 5:30 pm at the Van Buren Public Library.<br />\n<br />\nJoin us and find out more about your local shelter and volunteer opportunities.<br />\nVolunteers are needed for both morning and late evening slots.<br />\n<br />\nPlease don&rsquo\;t say &ldquo\;It would break my heart\, I&rsquo\;d want to take them all home.&rdquo\; We have great success stories. We keep each dog until we can place it in a loving home.<br />\n<br />\nHope to see you there!</span>
LOCATION:Van Buren Public Library
UID:e.3335.3975
SEQUENCE:3
DTSTAMP:20260424T061215Z
URL:https://www.vanburenchamber.org/events/details/new-volunteer-training-for-almost-home-shelter-rescue-3975
END:VEVENT

END:VCALENDAR
