BEGIN:VCALENDAR
VERSION:2.0
PRODID:-//ChamberMaster//Event Calendar 2.0//EN
METHOD:PUBLISH
X-PUBLISHED-TTL:P3D
REFRESH-INTERVAL:P3D
CALSCALE:GREGORIAN
BEGIN:VEVENT
DTSTART:20250201T160000Z
DTEND:20250201T200000Z
X-MICROSOFT-CDO-ALLDAYEVENT:FALSE
SUMMARY:Passport Day
DESCRIPTION:Are you making travel plans for the future?\n\nDo you need a passport book or passport card and are unable to make it into our office during the work week?\n\n \n\nYour Circuit Clerk's Office is excited to once again offer a special Saturday Passport Acceptance Event!\n\nOn Saturday\, February 1\, 2025 from 10am to 2pm\, we will be open to accept passport book/card applications and take passport photos.\n\nYou can follow our event page on Facebook with more information about requirements for applications and processing times.\n\nPlease share so all your friends and family will know and we hope to see you then!\n\nIf you have any questions regarding this event\, please call 479-474-1821 or you may go to the only official passport website: https://travel.state.gov
X-ALT-DESC;FMTTYPE=text/html:<div><span style="font-size:16px\;">Are you making travel plans for the future?<br />\nDo you need a passport book or passport card and are unable to make it into our office during the work week?</span><br />\n&nbsp\;</div>\n\n<div><span style="font-size:16px\;">Your Circuit Clerk&#39\;s Office is excited to once again offer a special Saturday Passport Acceptance Event!<br />\nOn Saturday\, February 1\, 2025 from 10am to 2pm\, we will be open to accept passport book/card applications and take passport photos.</span></div>\n\n<div><span style="font-size:16px\;">You can follow our event page on Facebook with more information about requirements for applications and processing times.</span></div>\n\n<div><span style="font-size:16px\;">Please share so all your friends and family will know and we hope to see you then!</span></div>\n\n<div><span style="font-size:16px\;">If you have any questions regarding this event\, please call 479-474-1821 or you may go to the only official passport website:&nbsp\;<a class="x1i10hfl xjbqb8w x1ejq31n xd10rxx x1sy0etr x17r0tee x972fbf xcfux6l x1qhh985 xm0m39n x9f619 x1ypdohk xt0psk2 xe8uvvx xdj266r x11i5rnm xat24cr x1mh8g0r xexx8yu x4uap5 x18d9i69 xkhd6sd x16tdsg8 x1hl2dhg xggy1nq x1a2a7pz x1sur9pj xkrqix3 x1fey0fg x1s688f" href="https://l.facebook.com/l.php?u=https%3A%2F%2Ftravel.state.gov%2F%3Ffbclid%3DIwZXh0bgNhZW0CMTAAAR0HYifKgHo_N-I51dRX5vEEr7CCRP5GcjQNAQtgCTmhJIhrW85lb0KrC4w_aem_wSuxbh_lJmKaV2s3bcUhIg&amp\;h=AT3vQ3YztxA4A5SP3ZB5enUhTmciDSWCM39cC1mNbcHYnbwRxTaSFbhqJPQzmAvyrHib0GRiUTl6bpvV3hNUsRlLmxz7uiQNlIRaKBL09R_ECZEiylRv9PZrvpJyvtwo&amp\;__tn__=q&amp\;c[0]=AT3ms3cuCUAZTshqeQcr3fjhS40yzNcaQrgwlt5KeJEIDyYdH1ig6jGv7ilVp4QAC1SQaspxIR-F899qZJ5Hs-UqkCuAabgsBicppwVwmt22zNDgICMz1mgAIKV8IoTFqmtvNHI-IGvZa3TmpxYI2t-UOjnbTNml1X1zRQ" rel="nofollow noreferrer" style="color: var(--blue-link)\; cursor: pointer\; text-decoration-line: none\; list-style: none\; margin: 0px\; text-align: inherit\; border-style: none\; padding: 0px\; box-sizing: border-box\; border-width: 0px\; outline: none\; -webkit-tap-highlight-color: transparent\; font-weight: 600\; touch-action: manipulation\; background-color: transparent\; display: inline\; font-family: inherit\;" tabindex="0" target="_blank">https://travel.state.gov</a>&nbsp\;</span></div>\n
LOCATION:Crawford County Circuit Clerk's Office
UID:e.3335.4792
SEQUENCE:3
DTSTAMP:20260423T171949Z
URL:https://www.vanburenchamber.org/events/details/passport-day-02-01-2025-4792
END:VEVENT

END:VCALENDAR
