BEGIN:VCALENDAR
VERSION:2.0
PRODID:-//ChamberMaster//Event Calendar 2.0//EN
METHOD:PUBLISH
X-PUBLISHED-TTL:P3D
REFRESH-INTERVAL:P3D
CALSCALE:GREGORIAN
BEGIN:VEVENT
DTSTART:20240819T220000Z
DTEND:20240820T010000Z
X-MICROSOFT-CDO-ALLDAYEVENT:FALSE
SUMMARY:Potato Fest 2024
DESCRIPTION:A day where the humble potato is king\, and you're invited to feast like royalty. Imagine a kingdom of food trucks and vendors\, where the air is scented with the aroma of fries and the heat of fire breathers adds a dash of danger to the mix. Engage in starchy shenanigans with potato sack races\, theatrical performances\, and the pi ce de r sistance: a mashed potato eating contest that will mash all records.
X-ALT-DESC;FMTTYPE=text/html:<span style="font-size:18px\;">A day where the humble potato is king\, and you&#39\;re invited to feast like royalty. Imagine a kingdom of food trucks and vendors\, where the air is scented with the aroma of fries and the heat of fire breathers adds a dash of danger to the mix. Engage in starchy shenanigans with potato sack races\, theatrical performances\, and the pi&egrave\;ce de r&eacute\;sistance: a mashed potato eating contest that will mash all records.</span>
LOCATION:3rd & Main: Music & Moore
UID:e.3335.4250
SEQUENCE:3
DTSTAMP:20260424T002523Z
URL:https://www.vanburenchamber.org/events/details/potato-fest-2024-4250
END:VEVENT

END:VCALENDAR
