BEGIN:VCALENDAR
VERSION:2.0
PRODID:-//ChamberMaster//Event Calendar 2.0//EN
METHOD:PUBLISH
X-PUBLISHED-TTL:P3D
REFRESH-INTERVAL:P3D
CALSCALE:GREGORIAN
BEGIN:VEVENT
DTSTART:20240921T133000Z
DTEND:20240921T170000Z
X-MICROSOFT-CDO-ALLDAYEVENT:FALSE
SUMMARY:Public Safety Pistol Course
DESCRIPTION:On Saturday September 21\, 2024 (8:30AM-12:00PM)\, the Crawford County Sheriff's Office will host a Public Safety Pistol Course. The course is free and open to the public. We will begin in our training room (4235 Alma Highway) with a short introduction and safety brief. After the safety brief\, the class will continue at our range. The class is an introduction to pistols and fundamentals of marksmanship with emphasis on safety. Recommended (but not required) equipment list: pistol\, ammo\, holster\, safety glasses and hearing protection. Please register for the class by contacting us at 479-474-2261 (option 1). The class will be limited to 15 people.
X-ALT-DESC;FMTTYPE=text/html:<br />\n<br />\nOn Saturday September 21\, 2024 (8:30AM-12:00PM)\, the Crawford County Sheriff&rsquo\;s Office will host a Public Safety Pistol Course. The course is free and open to the public. We will begin in our training room (4235 Alma Highway) with a short introduction and safety brief. After the safety brief\, the class will continue at our range. The class is an introduction to pistols and fundamentals of marksmanship with emphasis on safety. Recommended (but not required) equipment list: pistol\, ammo\, holster\, safety glasses and hearing protection. Please register for the class by contacting us at 479-474-2261 (option 1). The class will be limited to 15 people.
LOCATION:Crawford County Sheriff's Office Training Room
UID:e.3335.4277
SEQUENCE:3
DTSTAMP:20260424T002554Z
URL:https://www.vanburenchamber.org/events/details/public-safety-pistol-course-4277
END:VEVENT

END:VCALENDAR
