BEGIN:VCALENDAR
VERSION:2.0
PRODID:-//ChamberMaster//Event Calendar 2.0//EN
METHOD:PUBLISH
X-PUBLISHED-TTL:P3D
REFRESH-INTERVAL:P3D
CALSCALE:GREGORIAN
BEGIN:VEVENT
DTSTART:20250322T130000Z
DTEND:20250322T170000Z
X-MICROSOFT-CDO-ALLDAYEVENT:FALSE
SUMMARY:Public Safety Pistol Course
DESCRIPTION:On Saturday March 22nd\, 2025 (8:00AM-12:00PM)\, the Crawford County Sheriff's Office will host a Public Safety Pistol Course. The course is free and open to the public. We will begin in our training room (4235 Alma Highway) with a short introduction and safety brief. After the safety brief\, the class will continue at our range. The class is an introduction to pistols and fundamentals of marksmanship with emphasis on safety. Recommended (but not required) equipment list: pistol\, ammo\, holster\, safety glasses and hearing protection. Please register for the class by contacting us at 479-474-2261 (option 1) or email lmartinez@crawfordcountysheriff.org .
X-ALT-DESC;FMTTYPE=text/html:<br />\n<br />\nOn Saturday March 22nd\, 2025 (8:00AM-12:00PM)\, the Crawford County Sheriff&rsquo\;s Office will host a Public Safety Pistol Course. The course is free and open to the public. We will begin in our training room (4235 Alma Highway) with a short introduction and safety brief. After the safety brief\, the class will continue at our range. The class is an introduction to pistols and fundamentals of marksmanship with emphasis on safety. Recommended (but not required) equipment list: pistol\, ammo\, holster\, safety glasses and hearing protection. Please register for the class by contacting us at 479-474-2261 (option 1) or email&nbsp\;<a href="mailto:lmartinez@crawfordcountysheriff.org">lmartinez@crawfordcountysheriff.org </a>.&nbsp\;
LOCATION:Crawford County Sheriff's Office Training Room
UID:e.3335.4856
SEQUENCE:3
DTSTAMP:20260423T144611Z
URL:https://www.vanburenchamber.org/events/details/public-safety-pistol-course-4856
END:VEVENT

END:VCALENDAR
