BEGIN:VCALENDAR
VERSION:2.0
PRODID:-//ChamberMaster//Event Calendar 2.0//EN
METHOD:PUBLISH
X-PUBLISHED-TTL:P3D
REFRESH-INTERVAL:P3D
CALSCALE:GREGORIAN
BEGIN:VEVENT
DTSTART:20240725T190000Z
DTEND:20240725T210000Z
X-MICROSOFT-CDO-ALLDAYEVENT:FALSE
SUMMARY:Retirement Party
DESCRIPTION:Retirement Party Drop In Eva White
X-ALT-DESC;FMTTYPE=text/html:Retirement Party Drop In Eva White
LOCATION:Van Buren Public Library
UID:e.3335.4241
SEQUENCE:3
DTSTAMP:20260424T032100Z
URL:https://www.vanburenchamber.org/events/details/retirement-party-4241
END:VEVENT

END:VCALENDAR
