BEGIN:VCALENDAR
VERSION:2.0
PRODID:-//ChamberMaster//Event Calendar 2.0//EN
METHOD:PUBLISH
X-PUBLISHED-TTL:P3D
REFRESH-INTERVAL:P3D
CALSCALE:GREGORIAN
BEGIN:VEVENT
DTSTART:20240817T220000Z
DTEND:20240818T010000Z
X-MICROSOFT-CDO-ALLDAYEVENT:FALSE
SUMMARY:Rock and Roll Night with Dreadful Day
DESCRIPTION:Join us on the 17th of August for a night of Rock and Roll with Dreadful Day from 6-8PM! Doors open at 5pm and concessions will be available.
X-ALT-DESC;FMTTYPE=text/html:<span style="font-size:18px\;">Join us on the 17th of August for a night of Rock and Roll with <a href="https://www.facebook.com/profile.php?id=100095467964349&amp\;__cft__[0]=AZVTqn7b0b0_CfMbziF_62uQyLm_cDVmTVcmK9F8z5uCbze5g76fQvkCzptubF6TLsLTB-TlZ4DBe8IDaAcZbR7W43CLpPOP2MkyKykhrRLgOQw318yYLf0OH7PBw-k4OYnw5M9IC0AWytR757qX-vQZIOy0OWTaQqsKBv-s8FUXwyFzH9qRH9mIWoETFimMNCFxrIoTB77qPMkeSCVxU-uGVuNtlEJ3l9SPgo5mr1CKwA&amp\;__tn__=-]K-R" tabindex="0">Dreadful Day</a> from 6-8PM! Doors open at 5pm and concessions will be available.</span>
LOCATION:3rd & Main: Music & Moore
UID:e.3335.4248
SEQUENCE:3
DTSTAMP:20260424T002523Z
URL:https://www.vanburenchamber.org/events/details/rock-and-roll-night-with-dreadful-day-4248
END:VEVENT

END:VCALENDAR
