BEGIN:VCALENDAR
VERSION:2.0
PRODID:-//ChamberMaster//Event Calendar 2.0//EN
METHOD:PUBLISH
X-PUBLISHED-TTL:P3D
REFRESH-INTERVAL:P3D
CALSCALE:GREGORIAN
BEGIN:VEVENT
DTSTART:20250308T220000Z
DTEND:20250309T020000Z
X-MICROSOFT-CDO-ALLDAYEVENT:FALSE
SUMMARY:Spaghetti Dinner Fundraiser
DESCRIPTION:Enjoy a delicious plate of homemade spaghetti while supporting veterans and community initiatives. Bring your family and friends for an evening of good food\, camaraderie\, and giving back.\n\nCome hungry\, bring your appetite\, and help us make a difference!
X-ALT-DESC;FMTTYPE=text/html:<p><span style="font-size:16px\;">Enjoy a delicious plate of <strong>homemade spaghetti</strong>&nbsp\;while supporting <strong>veterans and community initiatives</strong>. Bring your family and friends for an evening of good food\, camaraderie\, and giving back.</span></p>\n\n<p><span style="font-size:16px\;">Come hungry\, bring your appetite\, and help us make a difference!</span></p>\n
LOCATION:Robert Jack VFW Post 1322
UID:e.3335.4835
SEQUENCE:3
DTSTAMP:20260423T155641Z
URL:https://www.vanburenchamber.org/events/details/spaghetti-dinner-fundraiser-4835
END:VEVENT

END:VCALENDAR
