BEGIN:VCALENDAR
VERSION:2.0
PRODID:-//ChamberMaster//Event Calendar 2.0//EN
METHOD:PUBLISH
X-PUBLISHED-TTL:P3D
REFRESH-INTERVAL:P3D
CALSCALE:GREGORIAN
BEGIN:VEVENT
DTSTART:20240629T120000Z
DTEND:20240629T200000Z
X-MICROSOFT-CDO-ALLDAYEVENT:FALSE
SUMMARY:St. MIchael's Flea Market
DESCRIPTION:The Flea Market has been postponed until June 29. Drop off @office on Thursday\, June 27th from 8:00 a.m. -2:00 p.m. & Friday\, June 28th from 8:00 a.m. - 11:00 a.m.  For BIG items & After hours drop-offs please contact  Phillip Weinsinger at 479-208-3028
X-ALT-DESC;FMTTYPE=text/html:<br />\n<span style="font-size:16px\;">The Flea Market has been postponed until June 29. Drop off @office on&nbsp\;Thursday\, June 27th from 8:00 a.m. -2:00 p.m. &amp\; Friday\, June 28th from 8:00 a.m. - 11:00 a.m.&nbsp\; For&nbsp\;BIG items &amp\; After hours drop-offs please contact&nbsp\; Phillip Weinsinger at 479-208-3028</span><br />\n&nbsp\;
LOCATION:St. Michaels Catholic Church
UID:e.3335.4031
SEQUENCE:3
DTSTAMP:20260424T032017Z
URL:https://www.vanburenchamber.org/events/details/st-michael-s-flea-market-4031
END:VEVENT

END:VCALENDAR
