BEGIN:VCALENDAR
VERSION:2.0
PRODID:-//ChamberMaster//Event Calendar 2.0//EN
METHOD:PUBLISH
X-PUBLISHED-TTL:P3D
REFRESH-INTERVAL:P3D
CALSCALE:GREGORIAN
BEGIN:VEVENT
DTSTART:20250510T130000Z
DTEND:20250510T170000Z
X-MICROSOFT-CDO-ALLDAYEVENT:FALSE
SUMMARY:Succulent Bar
DESCRIPTION:Stop by Junkees Vintage Market and plant  your own succulent.\n\nGreat for Mother's Day gift!\n\nYou will have several different pots and succulents to choose from for $18.00 each.
X-ALT-DESC;FMTTYPE=text/html:Stop by Junkees Vintage Market and plant&nbsp\; your own succulent.<br />\nGreat for Mother&#39\;s Day gift!<br />\nYou will have several different pots and succulents to choose from for $18.00 each.
LOCATION:Junkee's Vintage Market
UID:e.3335.4895
SEQUENCE:3
DTSTAMP:20260423T144443Z
URL:https://www.vanburenchamber.org/events/details/succulent-bar-4895
END:VEVENT

END:VCALENDAR
