BEGIN:VCALENDAR
VERSION:2.0
PRODID:-//ChamberMaster//Event Calendar 2.0//EN
METHOD:PUBLISH
X-PUBLISHED-TTL:P3D
REFRESH-INTERVAL:P3D
CALSCALE:GREGORIAN
BEGIN:VEVENT
DTSTART:20250808T160000Z
DTEND:20250808T183000Z
X-MICROSOFT-CDO-ALLDAYEVENT:FALSE
SUMMARY:Taste of Crawford County
DESCRIPTION:Get ready to savor the flavors of the River Valley as Taste of Crawford County returns this fall\, bringing together local restaurants with culinary delights for an afternoon full of great food\, community connection\, and local pride.  Presenting Sponsors are Citizens Bank & Trust Co. and Pepper Source in Van Buren\, Arkansas.\n\n\n\nHosted in partnership by the Crawford County Adult Education Center\, Crawford County Volunteers for Literacy\, and Monarch 61 Project\, this beloved event serves not only as a celebration of local cuisine but also as a fundraiser to support vital educational and outreach services throughout the county.
X-ALT-DESC;FMTTYPE=text/html:Get ready to savor the flavors of the River Valley as <strong>Taste of Crawford County</strong> returns this fall\, bringing together local restaurants with culinary delights for an afternoon full of great food\, community connection\, and local pride.&nbsp\; Presenting Sponsors are Citizens Bank &amp\; Trust Co. and Pepper Source in Van Buren\, Arkansas.<br />\n<br />\nHosted in partnership by the <strong>Crawford County Adult Education Center</strong>\, <strong>Crawford County Volunteers for Literacy</strong>\, and <strong>Monarch 61 Project</strong>\, this beloved event serves not only as a celebration of local cuisine but also as a fundraiser to support vital educational and outreach services throughout the county.<br />\n&nbsp\;
LOCATION:Van Buren High School Commons 2001 East Pointer Trail Van Buren\, AR 72956
UID:e.3335.5379
SEQUENCE:3
DTSTAMP:20260419T145322Z
URL:https://www.vanburenchamber.org/events/details/taste-of-crawford-county-08-08-2025-5379
END:VEVENT

END:VCALENDAR
