BEGIN:VCALENDAR
VERSION:2.0
PRODID:-//ChamberMaster//Event Calendar 2.0//EN
METHOD:PUBLISH
X-PUBLISHED-TTL:P3D
REFRESH-INTERVAL:P3D
CALSCALE:GREGORIAN
BEGIN:VEVENT
DTSTART:20240506T223000Z
DTEND:20240506T233000Z
X-MICROSOFT-CDO-ALLDAYEVENT:FALSE
SUMMARY:The CALL: May Foster Care/Adoption Interest Meeting
DESCRIPTION:Interest Meeting- Chapters on Main 5:30pm-6:30pm\n\n\n\nHave you thought about opening your home for foster or adoptive care? Join us for an Interest Meeting May 6th at Chapters on Main in Van Buren\, AR.
X-ALT-DESC;FMTTYPE=text/html:<br />\n<span style="font-size:14.6667px">Interest Meeting- Chapters on Main 5:30pm-6:30pm</span><br />\n<br />\n<span style="font-size:14.6667px">Have you thought&nbsp\;about opening your home for foster or adoptive care? Join us for an Interest Meeting May 6th at Chapters on Main in Van Buren\, AR.</span>
LOCATION:Chapters on Main
UID:e.3335.3976
SEQUENCE:3
DTSTAMP:20260424T061355Z
URL:https://www.vanburenchamber.org/events/details/the-call-may-foster-care-adoption-interest-meeting-3976
END:VEVENT

END:VCALENDAR
