BEGIN:VCALENDAR
VERSION:2.0
PRODID:-//ChamberMaster//Event Calendar 2.0//EN
METHOD:PUBLISH
X-PUBLISHED-TTL:P3D
REFRESH-INTERVAL:P3D
CALSCALE:GREGORIAN
BEGIN:VEVENT
DTSTART:20240903T230000Z
DTEND:20240904T000000Z
X-MICROSOFT-CDO-ALLDAYEVENT:FALSE
SUMMARY:The CALL: September 3rd Foster/Adoptive Care Information Meeting
DESCRIPTION:Have you thought about opening your home for foster or adoptive care? Join us for an Interest Meeting\, September 3rd at Butterfield Assembly of God in Van Buren\, AR.
X-ALT-DESC;FMTTYPE=text/html:<br />\n<span style="font-size:16px\;"><span style="color: rgb(5\, 5\, 5)\;">Have you thought about opening your home for foster or adoptive care? Join us for an Interest Meeting\, September 3rd at Butterfield Assembly of God in Van Buren\, AR.</span></span>
LOCATION:Butterfield Assembly of God
UID:e.3335.4219
SEQUENCE:3
DTSTAMP:20260424T002830Z
URL:https://www.vanburenchamber.org/events/details/the-call-september-3rd-foster-adoptive-care-information-meeting-4219
END:VEVENT

END:VCALENDAR
