BEGIN:VCALENDAR
VERSION:2.0
PRODID:-//ChamberMaster//Event Calendar 2.0//EN
METHOD:PUBLISH
X-PUBLISHED-TTL:P3D
REFRESH-INTERVAL:P3D
CALSCALE:GREGORIAN
BEGIN:VEVENT
DTSTART:20250710T100000Z
DTEND:20250710T200000Z
X-MICROSOFT-CDO-ALLDAYEVENT:FALSE
SUMMARY:TSA PreCheck Enrollment Event
DESCRIPTION:We're excited to offer a convenient opportunity for our passengers to enroll in TSA PreCheck right here at the Fort Smith Regional Airport on Thursday\, July 10.\n\n \n\nWalk-in Enrollment Hours:\n\n	5:00 AM   7:00 AM\n	7:15 AM   10:00 AM\n	10:30 AM   1:00 PM\n	1:15 PM   3:00 PM\n\nBe sure to bring your U.S. Passport or other accepted forms of ID to enroll!\n\n \n\nPrefer to skip the wait? Pre-register online and select an appointment time for July 10 at flyfsm.com/tsa-precheck-enrollment.\n\n \n\nEnrollment Fee: $77.95 for 5 years of TSA PreCheck benefits.\n\n \n\nWhy Enroll in TSA PreCheck?\n\n	Keep your shoes\, belts\, and light jackets on\n	Leave electronics and 3-1-1 liquids in your bag\n	Enjoy shorter wait times typically 10 minutes or less\n	Access expedited screening at 200+ airports nationwide\n	Children 17 and under can join a parent/guardian with TSA PreCheck in the dedicated lane (when listed on their boarding pass)\n\n \n\nThis event saves you a trip to the nearest full-time enrollment center in Springdale\, AR.
X-ALT-DESC;FMTTYPE=text/html:We&rsquo\;re excited to offer a convenient opportunity for our passengers to enroll in&nbsp\;TSA PreCheck&nbsp\;right here at the Fort Smith Regional Airport on Thursday\, July 10.<br />\n&nbsp\;<br />\nWalk-in Enrollment Hours:\n<ul>\n	<li>5:00 AM &ndash\; 7:00 AM</li>\n	<li>7:15 AM &ndash\; 10:00 AM</li>\n	<li>10:30 AM &ndash\; 1:00 PM</li>\n	<li>1:15 PM &ndash\; 3:00 PM</li>\n</ul>\nBe sure to bring your U.S. Passport or other accepted forms of ID to enroll!<br />\n&nbsp\;<br />\nPrefer to skip the wait?&nbsp\;Pre-register online&nbsp\;and select an appointment time for July 10 at flyfsm.com/tsa-precheck-enrollment.<br />\n&nbsp\;<br />\nEnrollment Fee:&nbsp\;$77.95 for 5 years of TSA PreCheck benefits.<br />\n&nbsp\;<br />\nWhy Enroll in TSA PreCheck?\n<ul>\n	<li>Keep your&nbsp\;shoes\, belts\, and light jackets on</li>\n	<li>Leave&nbsp\;electronics and 3-1-1 liquids&nbsp\;in your bag</li>\n	<li>Enjoy&nbsp\;shorter wait times&mdash\;typically 10 minutes or less</li>\n	<li>Access expedited screening at&nbsp\;200+ airports nationwide</li>\n	<li>Children 17 and under&nbsp\;can join a parent/guardian with TSA PreCheck in the dedicated lane (when listed on their boarding pass)</li>\n</ul>\n&nbsp\;<br />\nThis event saves you a trip to the nearest full-time enrollment center in Springdale\, AR.&nbsp\;
LOCATION:Fort Smith Regional Airport
UID:e.3335.5354
SEQUENCE:3
DTSTAMP:20260419T131346Z
URL:https://www.vanburenchamber.org/events/details/tsa-precheck-enrollment-event-5354
END:VEVENT

END:VCALENDAR
