BEGIN:VCALENDAR
VERSION:2.0
PRODID:-//ChamberMaster//Event Calendar 2.0//EN
METHOD:PUBLISH
X-PUBLISHED-TTL:P3D
REFRESH-INTERVAL:P3D
CALSCALE:GREGORIAN
BEGIN:VEVENT
DTSTART;VALUE=DATE:20240726
DTEND;VALUE=DATE:20240728
TRANSP:TRANSPARENT
X-MICROSOFT-CDO-ALLDAYEVENT:TRUE
SUMMARY:United Way of Fort Smith Area's 20th Annual Fill the Bus
DESCRIPTION:The United Way of Fort Smith Area is proud to announce its 20th annual Fill the Bus school supply drive\, set to take place on July 26th from 9 am to 7 pm and July 27th from 9 am to 1 pm. This cherished community event aims to ensure that students in our six-county service area start the school year equipped with the supplies they need to succeed.\n\n \n\nVolunteers will be stationed at Walmart locations within the service area\, eagerly awaiting donations from generous community members. The collected supplies will be distributed to school districts across Crawford\, Franklin\, Logan\, Sebastian\, LeFlore\, and Sequoyah counties\, directly benefiting students and helping to alleviate the financial burden on families and educators.\n\n \n\nCommunity members are encouraged to participate by donating new school supplies\, such as notebooks\, pencils\, crayons\, and backpacks\, at any Walmart location in the area during the event hours. Every contribution\, big or small\, helps to ensure that every child has the tools they need to succeed in the classroom.
X-ALT-DESC;FMTTYPE=text/html:<span style="font-size:16px\;"><span style="font-family:calibri light\,sans-serif">The United Way of Fort Smith Area is proud to announce its 20th annual Fill the Bus school supply drive\, set to take place on July 26th from 9 am to 7 pm and July 27th from 9 am to 1 pm. This cherished community event aims to ensure that students in our six-county service area start the school year equipped with the supplies they need to succeed.</span><br />\n&nbsp\;<br />\n<span style="font-family:calibri light\,sans-serif">Volunteers will be stationed at Walmart locations within the service area\, eagerly awaiting donations from generous community members. The collected supplies will be distributed to school districts across Crawford\, Franklin\, Logan\, Sebastian\, LeFlore\, and Sequoyah counties\, directly benefiting students and helping to alleviate the financial burden on families and educators.</span><br />\n&nbsp\;<br />\n<span style="font-family:calibri light\,sans-serif">Community members are encouraged to participate by donating new school supplies\, such as notebooks\, pencils\, crayons\, and backpacks\, at any Walmart location in the area during the event hours. Every contribution\, big or small\, helps to ensure that every child has the tools they need to succeed in the classroom.</span></span>
LOCATION:Walmart stores in Crawford\, Sebastian\, Franklin\, and Logan counties in Arkansas\, and LeFlore and Sequoyah counties in Oklahoma.
UID:e.3335.4233
SEQUENCE:3
DTSTAMP:20260424T032413Z
URL:https://www.vanburenchamber.org/events/details/united-way-of-fort-smith-area-s-20th-annual-fill-the-bus-4233
END:VEVENT

END:VCALENDAR
