BEGIN:VCALENDAR
VERSION:2.0
PRODID:-//ChamberMaster//Event Calendar 2.0//EN
METHOD:PUBLISH
X-PUBLISHED-TTL:P3D
REFRESH-INTERVAL:P3D
CALSCALE:GREGORIAN
BEGIN:VEVENT
DTSTART:20240617T223000Z
DTEND:20240618T010000Z
X-MICROSOFT-CDO-ALLDAYEVENT:FALSE
SUMMARY:VACATION BIBLE SCHOOL
DESCRIPTION:June 17th- 21st your children (age 4 through 6th grade) will want to come to our Parade Around the Our Father VBS program each evening from 5:30 p.m.- 8:00 p.m.  Registration is FREE.  Contact the parish office at 479-471-1211 to register.
X-ALT-DESC;FMTTYPE=text/html:<span style="font-size:16px\;"><span style="color:black"><span style="font-family:barlow semi condensed medium">June 17</span></span><span style="color:black"><span style="font-family:barlow semi condensed medium"><sup>th</sup></span></span><span style="color:black"><span style="font-family:barlow semi condensed medium">- 21</span></span><span style="color:black"><span style="font-family:barlow semi condensed medium"><sup>st</sup></span></span> <span style="color:black"><span style="font-family:barlow semi condensed">your children (age 4 through 6</span></span><span style="color:black"><span style="font-family:barlow semi condensed"><sup>th</sup></span></span><span style="color:black"><span style="font-family:barlow semi condensed"> grade) will want to come to our Parade Around the Our Father VBS program </span></span><span style="color:black"><span style="font-family:barlow semi condensed medium">each evening from 5:30 p.m.- 8:00 p.</span></span><span style="color:black"><span style="font-family:barlow semi condensed">m.&nbsp\; </span></span><span style="color:black"><span style="font-family:barlow semi condensed medium">Registration is FREE. &nbsp\;</span></span><span style="color:black"><span style="font-family:barlow semi condensed">Contact the parish office at 479-471-1211 to register.&nbsp\;</span></span></span><br />\n&nbsp\;
LOCATION:St. Michael Catholic Church
UID:e.3335.3998
SEQUENCE:3
DTSTAMP:20260424T032112Z
URL:https://www.vanburenchamber.org/events/details/vacation-bible-school-3998
END:VEVENT

END:VCALENDAR
