BEGIN:VCALENDAR
VERSION:2.0
PRODID:-//ChamberMaster//Event Calendar 2.0//EN
METHOD:PUBLISH
X-PUBLISHED-TTL:P3D
REFRESH-INTERVAL:P3D
CALSCALE:GREGORIAN
BEGIN:VEVENT
DTSTART:20250405T140000Z
DTEND:20250405T180000Z
X-MICROSOFT-CDO-ALLDAYEVENT:FALSE
SUMMARY:Veteran Service Fair
DESCRIPTION:This exciting FREE event aims to connect our local Military Heroes and their families with a wealth of services and resources available in our community.
X-ALT-DESC;FMTTYPE=text/html:<br />\n<span style="font-size:16px\;">This exciting FREE event aims to connect our local Military Heroes and their families with a wealth of services and resources available in our community.</span>
LOCATION:Kay Rogers Park
UID:e.3335.4849
SEQUENCE:3
DTSTAMP:20260423T103659Z
URL:https://www.vanburenchamber.org/events/details/veteran-service-fair-04-05-2025-4849
END:VEVENT

END:VCALENDAR
