BEGIN:VCALENDAR
VERSION:2.0
PRODID:-//ChamberMaster//Event Calendar 2.0//EN
METHOD:PUBLISH
X-PUBLISHED-TTL:P3D
REFRESH-INTERVAL:P3D
CALSCALE:GREGORIAN
BEGIN:VEVENT
DTSTART:20240830T130000Z
DTEND:20240831T180000Z
X-MICROSOFT-CDO-ALLDAYEVENT:FALSE
SUMMARY:VFW YardSale
DESCRIPTION:Join the VFW Robert Jack Post 1322 for a Christmas Yard Sale Benefit Drive.\n\nWe will have clothing\, houseware\, toys\, electronics\, and furniture for sale.
X-ALT-DESC;FMTTYPE=text/html:<span style="font-size:16px\;">Join the VFW Robert Jack Post 1322 for a Christmas Yard Sale Benefit Drive.<br />\nWe will have clothing\, houseware\, toys\, electronics\, and furniture for sale.&nbsp\;</span><br />\n&nbsp\;
LOCATION:VFW Robert Jack Post 1322
UID:e.3335.4275
SEQUENCE:3
DTSTAMP:20260424T002332Z
URL:https://www.vanburenchamber.org/events/details/vfw-yardsale-4275
END:VEVENT

END:VCALENDAR
